BEGIN:VCALENDAR
VERSION:2.0
PRODID:-//wp-events-plugin.com//7.2.3//EN
TZID:Europe/Berlin
X-WR-TIMEZONE:Europe/Berlin
BEGIN:VEVENT
UID:981@openlocks.at
DTSTART;TZID=Europe/Berlin:20221120T180000
DTEND;TZID=Europe/Berlin:20221120T220000
DTSTAMP:20221108T133936Z
URL:https://openlocks.at/events/bastelrunde-spanner-picks/
SUMMARY:Bastelrunde - Spanner & Picks
DESCRIPTION:Bei diesem außerterminlichen Treffen stellen wir Spanner selbs
 t her und haben vor Picks zu verbessern.\nAuch ansonsten haben wir vor in 
 der Werkstatt zu arbeiten.\n\nBitte unbedingt eine Atemschutzmaske mitbrin
 gen\, da manche Arbeiten Späne und Staub produzieren\, die ganz schlecht 
 für die Atemwege sind.
LOCATION:Metalab Wien\, Rathausstraße 6\, Wien\, Wien\, 1010\, 1. Bezirk\,
  Österreich
X-APPLE-STRUCTURED-LOCATION;VALUE=URI;X-ADDRESS=Rathausstraße 6\, Wien\, W
 ien\, 1010\, 1. Bezirk\, Österreich;X-APPLE-RADIUS=100;X-TITLE=Metalab Wi
 en:geo:0,0
END:VEVENT
BEGIN:VTIMEZONE
TZID:Europe/Berlin
X-LIC-LOCATION:Europe/Berlin
BEGIN:STANDARD
DTSTART:20221030T020000
TZOFFSETFROM:+0200
TZOFFSETTO:+0100
TZNAME:CET
END:STANDARD
END:VTIMEZONE
END:VCALENDAR