BEGIN:VCALENDAR
VERSION:2.0
PRODID:-//wp-events-plugin.com//7.2.3//EN
TZID:Europe/Berlin
X-WR-TIMEZONE:Europe/Berlin
BEGIN:VEVENT
UID:1018@openlocks.at
DTSTART;TZID=Europe/Vienna:20230516T180000
DTEND;TZID=Europe/Vienna:20230516T220000
DTSTAMP:20230616T101823Z
URL:https://openlocks.at/events/wien-lockpicking-2-2023-05-16/
SUMMARY:Wien - Lockpicking
DESCRIPTION:Jeder ist eingeladen\, der sich mit anderen über das Lockpicki
 ng austauschen möchte oder auch für den Schlössertausch.\nAuch für Anf
 änger ist in der Regel genug Platz\, Zeit\, Werkzeug und Schlösser vorha
 nden.\nKommt gerne einfach vorbei.\n\nDie Größe der Runde variiert stark
 \, zwischen nur 3 und über 20 Leuten.\n\nTreffpunkt ist wieder im Metalab
  Wien.  Weitere Informationen im Metalab Wiki.\n\nJeden ersten Freitag un
 d dritten Dienstag im Monat.
LOCATION:Restaurant Zypresse\, Westbahnstraße 35a\, Wien\, 1070\, Österre
 ich
X-APPLE-STRUCTURED-LOCATION;VALUE=URI;X-ADDRESS=Westbahnstraße 35a\, Wien\
 , 1070\, Österreich;X-APPLE-RADIUS=100;X-TITLE=Restaurant Zypresse:geo:0,
 0
END:VEVENT
BEGIN:VTIMEZONE
TZID:Europe/Vienna
X-LIC-LOCATION:Europe/Vienna
BEGIN:DAYLIGHT
DTSTART:20230326T030000
TZOFFSETFROM:+0100
TZOFFSETTO:+0200
TZNAME:CEST
END:DAYLIGHT
END:VTIMEZONE
END:VCALENDAR